BEGIN:VCALENDAR
VERSION:2.0
PRODID:-//Walnut Tree Inn, Northampton - ECPv6.15.11//NONSGML v1.0//EN
CALSCALE:GREGORIAN
METHOD:PUBLISH
X-ORIGINAL-URL:https://www.walnut-tree.co.uk
X-WR-CALDESC:Events for Walnut Tree Inn, Northampton
REFRESH-INTERVAL;VALUE=DURATION:PT1H
X-Robots-Tag:noindex
X-PUBLISHED-TTL:PT1H
BEGIN:VTIMEZONE
TZID:UTC
BEGIN:STANDARD
TZOFFSETFROM:+0000
TZOFFSETTO:+0000
TZNAME:UTC
DTSTART:20190101T000000
END:STANDARD
END:VTIMEZONE
BEGIN:VEVENT
DTSTART;TZID=UTC:20200301T190000
DTEND;TZID=UTC:20200301T220000
DTSTAMP:20260424T054706
CREATED:20190819T163417Z
LAST-MODIFIED:20190819T163417Z
UID:10000589-1583089200-1583100000@www.walnut-tree.co.uk
SUMMARY:Seafood Menu Evening
DESCRIPTION:Enjoy an evening of special fish and seafood dishes in a specially created 4-course menu for only £30.00 for you to enjoy for one night only. \nLimited places available\, Book online using the button at the top of the next column or call us on 01604 859551. \nMenu\nWarm Cured Salmon with Dressed Crab Meat\nCucumber\, fennel\, saffron mayonnaise and squid ink prawn crackers (GF) \n***** \nSpicy Fish Soup with a Dressed Oyster (GF) \n*****\nStuffed Poached Plaice Fillet\nsamphire\, crushed new potatoes finished with a moules marinière sauce (GF) \n***** \nDessert
URL:https://www.walnut-tree.co.uk/event/seafood-menu-evening/
LOCATION:Walnut Tree Inn\, 21 Station Road\, Blisworth\, Northants\, NN7 3DS\, United Kingdom
CATEGORIES:Occasions
ATTACH;FMTTYPE=:
END:VEVENT
BEGIN:VEVENT
DTSTART;TZID=UTC:20200322T120000
DTEND;TZID=UTC:20200322T203000
DTSTAMP:20260424T054706
CREATED:20190313T170839Z
LAST-MODIFIED:20190313T170839Z
UID:10000671-1584878400-1584909000@www.walnut-tree.co.uk
SUMMARY:Mother's Day Lunch
DESCRIPTION:[vc_row][vc_column][vc_column_text] \nGive Mum a break. Treat her to Sunday Lunch on Mother’s Day.\nIt’s time to treat mum and join us on Sunday 22nd March 2020 for a delicious Mother’s Day lunch at The Walnut Tree Inn.[/vc_column_text][dt_default_button link=”url:https%3A%2F%2Fwww.walnut-tree.co.uk%2Fmothers-day%2F|title:Mother%E2%80%99s%20Day||” size=”big” animation=”bounceInDown”]Find out more[/dt_default_button][/vc_column][/vc_row]
URL:https://www.walnut-tree.co.uk/event/mothers-day-lunch/
LOCATION:Walnut Tree Inn\, 21 Station Road\, Blisworth\, Northants\, NN7 3DS\, United Kingdom
CATEGORIES:Featured Event,Occasions
ATTACH;FMTTYPE=:
END:VEVENT
END:VCALENDAR