BEGIN:VCALENDAR
VERSION:2.0
PRODID:-//Walnut Tree Inn, Northampton - ECPv6.15.11//NONSGML v1.0//EN
CALSCALE:GREGORIAN
METHOD:PUBLISH
X-ORIGINAL-URL:https://www.walnut-tree.co.uk
X-WR-CALDESC:Events for Walnut Tree Inn, Northampton
REFRESH-INTERVAL;VALUE=DURATION:PT1H
X-Robots-Tag:noindex
X-PUBLISHED-TTL:PT1H
BEGIN:VTIMEZONE
TZID:UTC
BEGIN:STANDARD
TZOFFSETFROM:+0000
TZOFFSETTO:+0000
TZNAME:UTC
DTSTART:20190101T000000
END:STANDARD
END:VTIMEZONE
BEGIN:VEVENT
DTSTART;TZID=UTC:20200202T150000
DTEND;TZID=UTC:20200202T170000
DTSTAMP:20260421T224706
CREATED:20200116T171148Z
LAST-MODIFIED:20200116T171148Z
UID:10000732-1580655600-1580662800@www.walnut-tree.co.uk
SUMMARY:Six Nations Rugby - France v England
DESCRIPTION:3pm Kick off live on the Big Screen in the Bar. \nFood available from 12noon. \nWe will be showing all England games and other games on request.
URL:https://www.walnut-tree.co.uk/event/six-nations-rugby-france-v-england/
LOCATION:Walnut Tree Inn\, 21 Station Road\, Blisworth\, Northants\, NN7 3DS\, United Kingdom
CATEGORIES:Featured Event,Special Events
ATTACH;FMTTYPE=:
END:VEVENT
BEGIN:VEVENT
DTSTART;TZID=UTC:20200208T164500
DTEND;TZID=UTC:20200208T184500
DTSTAMP:20260421T224706
CREATED:20200116T171412Z
LAST-MODIFIED:20200116T171412Z
UID:10000733-1581180300-1581187500@www.walnut-tree.co.uk
SUMMARY:Six Nations Rugby - Scotland v England
DESCRIPTION:4.45pm Kick off live on the Big Screen in the Bar. \nFood available from 12noon. \nWe will be showing all England games and other games on request.
URL:https://www.walnut-tree.co.uk/event/six-nations-rugby-scotland-v-england/
LOCATION:Walnut Tree Inn\, 21 Station Road\, Blisworth\, Northants\, NN7 3DS\, United Kingdom
CATEGORIES:Special Events
ATTACH;FMTTYPE=:
END:VEVENT
BEGIN:VEVENT
DTSTART;TZID=UTC:20200222T120000
DTEND;TZID=UTC:20200222T160000
DTSTAMP:20260421T224706
CREATED:20200116T152638Z
LAST-MODIFIED:20200116T152638Z
UID:10000614-1582372800-1582387200@www.walnut-tree.co.uk
SUMMARY:Wedding Fair
DESCRIPTION:Recently engaged and looking for a venue? \nWell\, why not pop in and view our facilities\, meet our events team and some of our preferred suppliers over tasty canapés and a glass of prosecco. \nFor more information on Walnut Tree Inn Ceremonies and Receptions click here.
URL:https://www.walnut-tree.co.uk/event/wedding-fair/
LOCATION:Walnut Tree Inn\, 21 Station Road\, Blisworth\, Northants\, NN7 3DS\, United Kingdom
CATEGORIES:Featured Event,Special Events
ATTACH;FMTTYPE=:
END:VEVENT
BEGIN:VEVENT
DTSTART;TZID=UTC:20200223T150000
DTEND;TZID=UTC:20200223T170000
DTSTAMP:20260421T224706
CREATED:20200116T171733Z
LAST-MODIFIED:20200116T171733Z
UID:10000734-1582470000-1582477200@www.walnut-tree.co.uk
SUMMARY:Six Nations Rugby - England v Ireland
DESCRIPTION:3pm Kick off live on the Big Screen in the Bar. \nFood available from 12noon. \nWe will be showing all England games and other games on request.
URL:https://www.walnut-tree.co.uk/event/six-nations-rugby-england-v-ireland/
LOCATION:Walnut Tree Inn\, 21 Station Road\, Blisworth\, Northants\, NN7 3DS\, United Kingdom
CATEGORIES:Special Events
ATTACH;FMTTYPE=:
END:VEVENT
END:VCALENDAR