BEGIN:VCALENDAR
VERSION:2.0
PRODID:-//Walnut Tree Inn, Northampton - ECPv6.15.11//NONSGML v1.0//EN
CALSCALE:GREGORIAN
METHOD:PUBLISH
X-ORIGINAL-URL:https://www.walnut-tree.co.uk
X-WR-CALDESC:Events for Walnut Tree Inn, Northampton
REFRESH-INTERVAL;VALUE=DURATION:PT1H
X-Robots-Tag:noindex
X-PUBLISHED-TTL:PT1H
BEGIN:VTIMEZONE
TZID:UTC
BEGIN:STANDARD
TZOFFSETFROM:+0000
TZOFFSETTO:+0000
TZNAME:UTC
DTSTART:20180101T000000
END:STANDARD
END:VTIMEZONE
BEGIN:VEVENT
DTSTART;TZID=UTC:20191108T193000
DTEND;TZID=UTC:20191108T233000
DTSTAMP:20260422T064615
CREATED:20190212T124956Z
LAST-MODIFIED:20190212T124956Z
UID:10000640-1573241400-1573255800@www.walnut-tree.co.uk
SUMMARY:Oktoberfest 2019
DESCRIPTION:Always a popular night at The Walnut Tree Inn featuring The Munich Bierkellermen (from Birmingham!). The band lead the audience in a variety of thigh slapping silly games with lots of riotous singing. \nTicket price includes a meal of bratwurst\, sauerkraut and fries. Aubergine shnitzel is available for vegetarians\, please mention at time of booking. \nFancy dress • German beers
URL:https://www.walnut-tree.co.uk/event/oktoberfest-2019/
LOCATION:Walnut Tree Inn\, 21 Station Road\, Blisworth\, Northants\, NN7 3DS\, United Kingdom
CATEGORIES:Featured Event,Special Events
ATTACH;FMTTYPE=:
END:VEVENT
END:VCALENDAR