BEGIN:VCALENDAR
VERSION:2.0
PRODID:-//Walnut Tree Inn, Northampton - ECPv6.15.11//NONSGML v1.0//EN
CALSCALE:GREGORIAN
METHOD:PUBLISH
X-ORIGINAL-URL:https://www.walnut-tree.co.uk
X-WR-CALDESC:Events for Walnut Tree Inn, Northampton
REFRESH-INTERVAL;VALUE=DURATION:PT1H
X-Robots-Tag:noindex
X-PUBLISHED-TTL:PT1H
BEGIN:VTIMEZONE
TZID:UTC
BEGIN:STANDARD
TZOFFSETFROM:+0000
TZOFFSETTO:+0000
TZNAME:UTC
DTSTART:20250101T000000
END:STANDARD
END:VTIMEZONE
BEGIN:VEVENT
DTSTART;TZID=UTC:20260424T210000
DTEND;TZID=UTC:20260424T235000
DTSTAMP:20260421T161247
CREATED:20191002T164226Z
LAST-MODIFIED:20251219T165248Z
UID:10000597-1777064400-1777074600@www.walnut-tree.co.uk
SUMMARY:Accrington Stanley
DESCRIPTION:Spanning thirty one years of successful performances of Beatles music\, the band\, Accrington Stanley returns with a magical journey into the time of legend that was the Beatles. Arguably still the best creative songwriters of the 20th Century; the Beatles’ music persists in everyday song lists of musical artists\, radio and television all over the world. \nThe Magical History Four will be showing just why the music of the Beatles is still loved by so many. From a huge selection of instantly recognisable songs will come some of the band’s favourites for this special festival day. \nDespite many other ‘tribute bands’ playing Beatles music\, Accrington Stanley were one of the very first\, playing and singing with ability and love for the music.
URL:https://www.walnut-tree.co.uk/event/accrington-stanley-3/
LOCATION:Walnut Tree Inn\, 21 Station Road\, Blisworth\, Northants\, NN7 3DS\, United Kingdom
CATEGORIES:Live Music
ATTACH;FMTTYPE=image/jpeg:https://www.walnut-tree.co.uk/wp-content/uploads/2019/10/accrington.jpg
END:VEVENT
BEGIN:VEVENT
DTSTART;TZID=UTC:20260510T123000
DTEND;TZID=UTC:20260510T150000
DTSTAMP:20260421T161247
CREATED:20190327T174450Z
LAST-MODIFIED:20251207T092054Z
UID:10000679-1778416200-1778425200@www.walnut-tree.co.uk
SUMMARY:Tad Newton's Jazzfriends
DESCRIPTION:Tickets £15 on the door.\nFor reservations and enquiries call Tad Newton on 01604 858549.
URL:https://www.walnut-tree.co.uk/event/tad-newtons-jazz-friends/
LOCATION:Walnut Tree Inn\, 21 Station Road\, Blisworth\, Northants\, NN7 3DS\, United Kingdom
CATEGORIES:Live Jazz
ATTACH;FMTTYPE=image/jpeg:https://www.walnut-tree.co.uk/wp-content/uploads/2021/03/tad-newton.jpg
END:VEVENT
BEGIN:VEVENT
DTSTART;TZID=UTC:20260912T210000
DTEND;TZID=UTC:20260912T235000
DTSTAMP:20260421T161247
CREATED:20210419T054542Z
LAST-MODIFIED:20251020T153445Z
UID:10000764-1789246800-1789257000@www.walnut-tree.co.uk
SUMMARY:BoxEddy
DESCRIPTION:Superb four-piece band from Northampton formed in 1999\, playing indie\, rock and pop classics such as The Jam\, Rolling Stones\, Joe Jackson\, Oasis\, Libertines\, Killers\, Blur and even a bit of Abba!
URL:https://www.walnut-tree.co.uk/event/boxeddy-3/
LOCATION:Walnut Tree Inn\, 21 Station Road\, Blisworth\, Northants\, NN7 3DS\, United Kingdom
CATEGORIES:Live Music
ATTACH;FMTTYPE=image/jpeg:https://www.walnut-tree.co.uk/wp-content/uploads/2021/04/boxeddy.jpg
END:VEVENT
BEGIN:VEVENT
DTSTART;TZID=UTC:20261003T210000
DTEND;TZID=UTC:20261003T235000
DTSTAMP:20260421T161247
CREATED:20190212T151849Z
LAST-MODIFIED:20251022T100700Z
UID:10000643-1791061200-1791071400@www.walnut-tree.co.uk
SUMMARY:Funk Odyssey
DESCRIPTION:Funk Odyssey are a 5-piece band based in Bedford. Their set contains one smash hit after the next and includes various medleys of continuous music to keep everyone on the dancing. Consisting of an exceptional female vocalist and one of the tightest rhythm sections around\, they play dance floor fillers from the likes of Donna Summer\, Chic\, Kool and the Gang\, Rose Royce\, Randy Crawford\, Daft Punk and many others.
URL:https://www.walnut-tree.co.uk/event/funk-odyssey/
LOCATION:Walnut Tree Inn\, 21 Station Road\, Blisworth\, Northants\, NN7 3DS\, United Kingdom
CATEGORIES:Live Music
ATTACH;FMTTYPE=image/jpeg:https://www.walnut-tree.co.uk/wp-content/uploads/2024/10/funk-odyssey-2.jpg
END:VEVENT
BEGIN:VEVENT
DTSTART;TZID=UTC:20261107T210000
DTEND;TZID=UTC:20261107T235000
DTSTAMP:20260421T161247
CREATED:20210311T173728Z
LAST-MODIFIED:20251118T152451Z
UID:10000761-1794085200-1794095400@www.walnut-tree.co.uk
SUMMARY:Whiteroom
DESCRIPTION:With over 15 years’ experience as a band\, Whiteroom are the perfect choice for a special night to remember!\n\n\nThe Northampton-based four-piece\, specialising in contemporary Rock and Pop\, have created a blend of chart-toppers over the last 30 years for their shows\, including such artists as: Kings of Leon\, Blink 182\, The Killers\, U2\, Stereophonics\, George Michael\, Greenday\, Oasis\, Bastille\, Franz Ferdinand and many more!
URL:https://www.walnut-tree.co.uk/event/whiteroom-2/
LOCATION:Walnut Tree Inn\, 21 Station Road\, Blisworth\, Northants\, NN7 3DS\, United Kingdom
CATEGORIES:Live Music
ATTACH;FMTTYPE=image/jpeg:https://www.walnut-tree.co.uk/wp-content/uploads/2021/03/whiteroom.jpg
END:VEVENT
BEGIN:VEVENT
DTSTART;TZID=UTC:20261121T210000
DTEND;TZID=UTC:20261121T233000
DTSTAMP:20260421T161247
CREATED:20251119T141032Z
LAST-MODIFIED:20251119T141032Z
UID:10000908-1795294800-1795303800@www.walnut-tree.co.uk
SUMMARY:Six Feet Apart
DESCRIPTION:Six Feet Apart is a five-piece band from Northampton\, with setlists packed with indie favourites\, and pop classics that gets everyone dancing. Their trademark harmonies set them apart. Expect huge tunes and great fun when Six Feet Apart take the stage.
URL:https://www.walnut-tree.co.uk/event/six-feet-apart-2/
LOCATION:Walnut Tree Inn\, 21 Station Road\, Blisworth\, Northants\, NN7 3DS\, United Kingdom
CATEGORIES:Live Music
ATTACH;FMTTYPE=image/jpeg:https://www.walnut-tree.co.uk/wp-content/uploads/2020/11/six-feet-apart.jpg
END:VEVENT
BEGIN:VEVENT
DTSTART;TZID=UTC:20261205T213000
DTEND;TZID=UTC:20261205T235000
DTSTAMP:20260421T161247
CREATED:20190903T122210Z
LAST-MODIFIED:20250915T151443Z
UID:10000711-1796506200-1796514600@www.walnut-tree.co.uk
SUMMARY:Kickstart
DESCRIPTION:Kickstart are a Northampton based five-piece band playing classic 60’s/Mod/Ska/Punk and Indie music including tracks from the likes of The Who\, The Stones\,The Kinks\,The Beatles\, The Jam\, The Clash\, The Specials\, Madness\, Selector\, Kaiser Chiefs\, The Killers and a whole lot more.
URL:https://www.walnut-tree.co.uk/event/kickstart-2/
LOCATION:Walnut Tree Inn\, 21 Station Road\, Blisworth\, Northants\, NN7 3DS\, United Kingdom
CATEGORIES:Live Music
ATTACH;FMTTYPE=image/jpeg:https://www.walnut-tree.co.uk/wp-content/uploads/2021/02/kickstart.jpg
END:VEVENT
BEGIN:VEVENT
DTSTART;TZID=UTC:20261212T210000
DTEND;TZID=UTC:20261212T235000
DTSTAMP:20260421T161247
CREATED:20190327T181745Z
LAST-MODIFIED:20260211T153814Z
UID:10000575-1797109200-1797119400@www.walnut-tree.co.uk
SUMMARY:Funktionality
DESCRIPTION:Milton Keynes based seven-piece function band fronted by two female singers and one male singer performing funk\, soul\, pop and rock genres. \nThe band have been established for six years and have a large and diverse repertoire of songs for every event. \nThey cover artists including: Chic\, Sister Sledge\, Rose Royce\, Heatwave\, Kool & The Gang\, Tina Turner\, James Brown\, Cee Lo Green\, Prince\, Stevie Wonder\, Jackson 5\, Toploader\, Lionel Richie\, Whitney Houston\, Bee Gees\, Blues Brothers\, B52s\, The Jam\, 10CC\, Bon Jovi\, Frankie Goes To Hollywood\, Jamiroquai\, Amy Winehouse\, Jessie J\, Mark Ronson\, Adele\, Plan B\, Bruno Mars and Daft Punk.
URL:https://www.walnut-tree.co.uk/event/funktionality-2/
LOCATION:Walnut Tree Inn\, 21 Station Road\, Blisworth\, Northants\, NN7 3DS\, United Kingdom
CATEGORIES:Live Music
ATTACH;FMTTYPE=image/jpeg:https://www.walnut-tree.co.uk/wp-content/uploads/2019/03/funktionality.jpg
END:VEVENT
END:VCALENDAR